BEGIN:VCALENDAR
VERSION:2.0
PRODID:-//Huddinge AIS Friidrott - ECPv4.6.11.1//NONSGML v1.0//EN
CALSCALE:GREGORIAN
METHOD:PUBLISH
X-WR-CALNAME:Huddinge AIS Friidrott
X-ORIGINAL-URL:https://huddingeais.se
X-WR-CALDESC:Events for Huddinge AIS Friidrott
BEGIN:VEVENT
DTSTART;VALUE=DATE:20220801
DTEND;VALUE=DATE:20220802
DTSTAMP:20260421T083257
CREATED:20220520T210305Z
LAST-MODIFIED:20220728T191923Z
UID:6414-1659312000-1659398399@huddingeais.se
SUMMARY:Viking Line Spelen 2022
DESCRIPTION:\n	Viking Line Spelen 2022					\n						\n					\n					\n\n	\n\n	\n		\n			\n			Inbjudan		\n	\n\n\n	\n		\n			\n			Anmälan mailas till gunnar@huddingeais.se		\n	\n\n\n	\n		\n			\n			Startlista		\n	\n\n\n	\n		\n			\n			Tidsprogram		\n	\n\n\n	\n		\n			\n			Stavhoppspooler		\n	\n\n\n	\n		\n			\n			Resultat		\n	\n\n\n\n	Relaterade\n
URL:https://huddingeais.se/event/viking-line-spelen-2022/
LOCATION:Gamla Stockholmsvägen 91\, Huddinge\, Stockholm\, 14132\, Sweden
CATEGORIES:Arena,Utomhus
ORGANIZER;CN="Huddinge%20AIS%20-%20Per%20%C3%96hrland":MAILTO:pelle@huddingeais.se
END:VEVENT
END:VCALENDAR