BEGIN:VCALENDAR
VERSION:2.0
PRODID:-//Huddinge AIS Friidrott - ECPv4.6.11.1//NONSGML v1.0//EN
CALSCALE:GREGORIAN
METHOD:PUBLISH
X-WR-CALNAME:Huddinge AIS Friidrott
X-ORIGINAL-URL:https://huddingeais.se
X-WR-CALDESC:Events for Huddinge AIS Friidrott
BEGIN:VEVENT
DTSTART;TZID=Europe/Stockholm:20181013T103500
DTEND;TZID=Europe/Stockholm:20181013T123000
DTSTAMP:20260422T084435
CREATED:20180914T081927Z
LAST-MODIFIED:20181111T212340Z
UID:1893-1539426900-1539433800@huddingeais.se
SUMMARY:Terräng-KM 2018
DESCRIPTION:Välkommen till Terräng-KM 13 oktober\nDen 13 oktober genomför vi ett trevligt arrangemang utanför Källbrinks IP där alla HAIS-medlemmar kan delta. Efter målgång bjuds det korvgrillning\, fika och något att dricka. Och lördagsgodis till knattarna! \nNär:\nLördag 13:e oktober \nVar:\nMotionsspåret vid Källbrinks IP \nKlasser                        Sträcka              Starttid\nKnattar                        800 m               kl 10.15\n10 år-vuxen                 2 km                 kl 10.35\n15 år-vuxen                 4 km                 kl 10.35 \nAnmälan\nGörs till kansli@huddingeais.se\nDet går också bra att anmäla sig på plats men för att underlätta planeringen så tar vi gärna emot så många anmälningar som möjligt innan fredag den 12 oktober. \n\n\n	Relaterade\n
URL:https://huddingeais.se/event/terrang-km-2018/
LOCATION:Gamla Stockholmsvägen 91\, Huddinge\, Stockholm\, 14132\, Sweden
CATEGORIES:Långlopp
ORGANIZER;CN="Huddinge%20AIS%20Friidrott":MAILTO:kansli@huddingeais.se
END:VEVENT
END:VCALENDAR