BEGIN:VCALENDAR
VERSION:2.0
PRODID:-//Huddinge AIS Friidrott - ECPv4.6.11.1//NONSGML v1.0//EN
CALSCALE:GREGORIAN
METHOD:PUBLISH
X-WR-CALNAME:Huddinge AIS Friidrott
X-ORIGINAL-URL:https://huddingeais.se
X-WR-CALDESC:Events for Huddinge AIS Friidrott
BEGIN:VEVENT
DTSTART;VALUE=DATE:20200801
DTEND;VALUE=DATE:20200803
DTSTAMP:20260419T153728
CREATED:20200624T160935Z
LAST-MODIFIED:20200801T081303Z
UID:4099-1596240000-1596412799@huddingeais.se
SUMMARY:Mångkamp USM-15 2020
DESCRIPTION:\n\n	Välkommen till USM-15 Mångkamp i Huddinge den 1-2 Augusti! \nSe högerspalten för Inbjudan och anmälan! \nSe gärna Anvisningar angående Tävlingsresor! \nAngående Coachning:\n1st coach-badge per aktiv delas ut vid nummerlappsutdelningen​. Ger tillträde till området för att coacha längd och löpning. Coachning för stav\, höjd och kast sker utanför räcket. \n  \nHåll avstånd. \n  \nVid frågor\, hör av dig till Pelle Öhrland \n070-675 87 99 per.ohrland@hotmail.com \n\n\n	\n		\n			\n			Sida på smfriidrott.com		\n	\n\n\n	\n		\n			\n			Inbjudan		\n	\n\n\n	\n		\n			\n			Anvisningar om Tävlingsresor		\n	\n\n\n	\n		\n			\n			Anmälan		\n	\n\n\n	\n		\n			\n			Anmälda		\n	\n\n\n	\n		\n			\n			PM		\n	\n\n\n	\n		\n			\n			Tidsprogram		\n	\n\n\n	\n		\n			\n			Resultat		\n	\n\n\n\n	Relaterade\n
URL:https://huddingeais.se/event/mangkamp-usm-15-2020/
LOCATION:Gamla Stockholmsvägen 91\, Huddinge\, Stockholm\, 14132\, Sweden
CATEGORIES:Arena,Utomhus
ORGANIZER;CN="Huddinge%20AIS%20Friidrott":MAILTO:kansli@huddingeais.se
END:VEVENT
END:VCALENDAR