BEGIN:VCALENDAR
VERSION:2.0
PRODID:-//Huddinge AIS Friidrott - ECPv4.6.11.1//NONSGML v1.0//EN
CALSCALE:GREGORIAN
METHOD:PUBLISH
X-WR-CALNAME:Huddinge AIS Friidrott
X-ORIGINAL-URL:https://huddingeais.se
X-WR-CALDESC:Events for Huddinge AIS Friidrott
BEGIN:VEVENT
DTSTART;TZID=Europe/Stockholm:20200711T170000
DTEND;TZID=Europe/Stockholm:20200711T220000
DTSTAMP:20260419T165206
CREATED:20200701T205637Z
LAST-MODIFIED:20200711T155144Z
UID:4143-1594486800-1594504800@huddingeais.se
SUMMARY:Juliettan
DESCRIPTION:\n\n	Juliettan lördagen 11 juli 2020\n \nGrenar och prel starttider \nM och K 1500 m start ca 20.30\, 5000 m 10.000 (begränsat antal deltagare) start ca 21.00 \nM 3000 Hinder start ca 20.00 \nM och K stavhopp\, längd\, kula prel start 17.00 Höjd 19.00 \nM och K Jerikovallen Diskus 18.00  Slägga 19.00 \nExakt starttid för resp lopp meddelas i PM ca 8 juli \nAnmälan senast 7 juli  med E-post till: per.ohrland@hotmail.com  med \nGren. namn\, födelseår\, klubb och anmälningstid för rätt seedning i löpningarna.Start avgift 200 kr debiteras klubbarna efteråt\, efteranmälan i mån av plats 300 kr \nAnmälan är bindande \nLöpgrenarna kommer att genomföras mixade beroende på anmälda tider. Farthållare (harar) kommer att finnas. \nTävlingen kommer att genomföras med hänsyn till de regler som finns fastställda pga av Corona-pandemin. Tävlingarna kommer att genomföras med enbart aktiva\, funktionärer och en begränsad mängd tränare närvarande. Ingen ytterligare publik kommer att tillåtas \nUpplysningar: Per Synnerman  per@huddingeais.se \nVälkomna önskar Huddinge AIS \n\n\n	\n		\n			\n			Startlista ink heatindelningar		\n	\n\n\n	\n		\n			\n			PM		\n	\n\n\n	\n		\n			\n			Tidsprogram		\n	\n\n\n	\n		\n			\n			Resultat		\n	\n\n\n\n	Relaterade\n
URL:https://huddingeais.se/event/juliettan/
LOCATION:Gamla Stockholmsvägen 91\, Huddinge\, Stockholm\, 14132\, Sweden
CATEGORIES:Arena,Utomhus
ORGANIZER;CN="Huddinge%20AIS%20Friidrott":MAILTO:kansli@huddingeais.se
END:VEVENT
END:VCALENDAR