BEGIN:VCALENDAR
VERSION:2.0
PRODID:-//Huddinge AIS Friidrott - ECPv4.6.11.1//NONSGML v1.0//EN
CALSCALE:GREGORIAN
METHOD:PUBLISH
X-WR-CALNAME:Huddinge AIS Friidrott
X-ORIGINAL-URL:https://huddingeais.se
X-WR-CALDESC:Events for Huddinge AIS Friidrott
BEGIN:VEVENT
DTSTART;VALUE=DATE:20230616
DTEND;VALUE=DATE:20230619
DTSTAMP:20260420T041536
CREATED:20230117T084826Z
LAST-MODIFIED:20230617T063040Z
UID:7016-1686873600-1687132799@huddingeais.se
SUMMARY:Huddingespelen 2023
DESCRIPTION:\n	Huddingespelen 2023					\n						\n					\n					\n\n	Efteranmälan på arenan i mån av plats. \n\n\n	\n		\n			\n			Inbjudan		\n	\n\n\n	\n		\n			\n			Anmälda		\n	\n\n\n	\n		\n			\n			Startlista		\n	\n\n\n	\n		\n			\n			PM		\n	\n\n\n	\n		\n			\n			Tidsprogram Fredag		\n	\n\n\n	\n		\n			\n			Tidsprogram Lördag		\n	\n\n\n	\n		\n			\n			Tidsprogram Söndag		\n	\n\n\n	\n		\n			\n			Resultat Fredag		\n	\n\n\n	\n		\n			\n			Resultat Lördag		\n	\n\n\n	\n		\n			\n			Resultat Söndag		\n	\n\n\n\n	Relaterade\n
URL:https://huddingeais.se/event/huddingespelen-2023/
LOCATION:Gamla Stockholmsvägen 91\, Huddinge\, Stockholm\, 14132\, Sweden
CATEGORIES:Arena,Kastplan,Utomhus
ORGANIZER;CN="Huddinge%20AIS%20Friidrott":MAILTO:kansli@huddingeais.se
END:VEVENT
END:VCALENDAR